BEGIN:VCALENDAR
VERSION:2.0
PRODID:-//Regatta Bay Golf &amp; Yacht Club - ECPv6.15.18//NONSGML v1.0//EN
CALSCALE:GREGORIAN
METHOD:PUBLISH
X-WR-CALNAME:Regatta Bay Golf &amp; Yacht Club
X-ORIGINAL-URL:https://www.regattabay.com
X-WR-CALDESC:Events for Regatta Bay Golf &amp; Yacht Club
REFRESH-INTERVAL;VALUE=DURATION:PT1H
X-Robots-Tag:noindex
X-PUBLISHED-TTL:PT1H
BEGIN:VTIMEZONE
TZID:UTC
BEGIN:STANDARD
TZOFFSETFROM:+0000
TZOFFSETTO:+0000
TZNAME:UTC
DTSTART:20230101T000000
END:STANDARD
END:VTIMEZONE
BEGIN:VEVENT
DTSTART;VALUE=DATE:20241008
DTEND;VALUE=DATE:20241009
DTSTAMP:20260422T044031
CREATED:20240406T194034Z
LAST-MODIFIED:20240406T194034Z
UID:10000021-1728345600-1728431999@www.regattabay.com
SUMMARY:LADIES SOLHEIM CUP (@ BURNT PINE)
DESCRIPTION:
URL:https://www.regattabay.com/event/ladies-solheim-cup-burnt-pine/
END:VEVENT
BEGIN:VEVENT
DTSTART;VALUE=DATE:20241010
DTEND;VALUE=DATE:20241011
DTSTAMP:20260422T044031
CREATED:20240406T194058Z
LAST-MODIFIED:20240406T194058Z
UID:10000022-1728518400-1728604799@www.regattabay.com
SUMMARY:LADIES SOLHEIM CUP (@ BURNT PINE)
DESCRIPTION:
URL:https://www.regattabay.com/event/ladies-solheim-cup-burnt-pine-2/
END:VEVENT
BEGIN:VEVENT
DTSTART;VALUE=DATE:20241010
DTEND;VALUE=DATE:20241013
DTSTAMP:20260422T044031
CREATED:20240406T194133Z
LAST-MODIFIED:20240406T194133Z
UID:10000023-1728518400-1728777599@www.regattabay.com
SUMMARY:MEN'S MEMBER-GUEST TOURNAMENT
DESCRIPTION:
URL:https://www.regattabay.com/event/mens-member-guest-tournament/
END:VEVENT
BEGIN:VEVENT
DTSTART;VALUE=DATE:20241024
DTEND;VALUE=DATE:20241025
DTSTAMP:20260422T044031
CREATED:20240406T194211Z
LAST-MODIFIED:20240406T210408Z
UID:10000024-1729728000-1729814399@www.regattabay.com
SUMMARY:MGA/LGA FALL 9 & DINE
DESCRIPTION:
URL:https://www.regattabay.com/event/mga-lga-fall-9-dine/
END:VEVENT
BEGIN:VEVENT
DTSTART;VALUE=DATE:20241030
DTEND;VALUE=DATE:20241031
DTSTAMP:20260422T044031
CREATED:20240406T194320Z
LAST-MODIFIED:20240406T194320Z
UID:10000025-1730246400-1730332799@www.regattabay.com
SUMMARY:MGA/LGA HALLOWEEN PUTTING CONTEST & HAPPY HOUR
DESCRIPTION:
URL:https://www.regattabay.com/event/mga-lga-halloween-putting-contest-happy-hour/
END:VEVENT
END:VCALENDAR